{"text_format":"1","workbook":"xlsx","n_sheets":31,"sheets":["Introduction","Index","Sales","Price","Finance","Marks","Comparision_LineCharts","Comparision_Chart","ComparisionChart","Chart8","Sheet14","Chart7","Sheet13","Chart6","Sheet12","Chart1","Sheet7","Dashboard_with_Four_Charts","DashBoard_with_Three_Dataitems","ThermometerChart_with_Marks","ThermometerChart_StdandActual","Dual_Axis_Chart_For_Apple","ComboChart_PineAndBanana","ComboChart_Banana","ColumnChart_Sales_Of_Banana","Column_Chart_For_Assets","Line_Chart_With_Papaya_Price","Bar_Chart_with_LemonMarks","Grapes_Bar_Chart","Papaya_Pie_Chart","Pie_Chart_Orange"],"not_rendered":{"charts":30,"images":5,"macros":1,"external_links":0,"defined_names":0,"comments":0,"pivot_tables":0},"unopened":[{"sheet":"Chart8","index":9,"reason":"not_a_worksheet"},{"sheet":"Chart7","index":11,"reason":"not_a_worksheet"},{"sheet":"Chart6","index":13,"reason":"not_a_worksheet"},{"sheet":"Chart1","index":15,"reason":"not_a_worksheet"}],"bounds":{"document_bytes":16777216,"sheet_cells":100000,"rows_first":2000,"rows_last":500,"rows_between":2000,"halvings":0,"cell_chars":16384,"cell_head_chars":4096},"cells_cut":0,"cells_raw":0,"read":"whole","date_system":"1900"}

{"sheet":"Introduction","index":0,"n_rows":20,"n_cols":6,"rows_kept":20,"cut":false,"hidden":false,"merged":[[2,1,18,9]]}
[null,null,null,null,null,"www.Tricks12345.com"]
[]
[null,"Classification \nOf Charts"]
[]
[]
[]
[]
[]
[]
[]
[]
[]
[]
[]
[]
[]
[]
[]
[]
[null,null,"Pavan Kumar Gundlapalli"]

{"sheet":"Index","index":1,"n_rows":60,"n_cols":15,"rows_kept":60,"cut":false,"hidden":false,"merged":[[56,4,56,7],[52,4,52,7],[1,13,2,16],[4,14,5,16],[44,4,44,7],[23,4,23,7],[31,4,31,7],[35,4,35,7],[39,4,39,7]]}
["Introduction"]
["Index",null,null,null,null,null,null,null,null,null,null,null,null,"Template Last Updated:"]
["Sales"]
["Price"]
["Finance",null,null,null,null,null,null,null,null,null,null,null,null,null,"2018-11-01"]
["Marks"]
["Comparision_LineCharts"]
["Comparision_Chart"]
["ComparisionChart"]
["Chart8"]
["Sheet14"]
["Chart7"]
["Sheet13"]
["Chart6"]
["Sheet12"]
["Chart1"]
["Sheet7"]
["Dashboard_with_Four_Charts",null,null,null,"Introduction about this template:"]
["DashBoard_with_Three_Dataitems",null,null,null,"Header of your datasheet has to start from first row and first column i.e \"A1\" cell"]
["ThermometerChart_with_Marks",null,null,null,"Charts in this template are in dynamic nature….when we change the input values charts also get change, as cell address are considered to create charts"]
["ThermometerChart_StdandActual"]
["Dual_Axis_Chart_For_Apple"]
["ComboChart_PineAndBanana"]
["ComboChart_Banana",null,null,null,"DashBoard - 4 Data Items"]
["ColumnChart_Sales_Of_Banana"]
["Column_Chart_For_Assets",null,null,null,"It allows you to create Dash Board for 4 Data Items"]
["Line_Chart_With_Papaya_Price"]
["Bar_Chart_with_LemonMarks",null,null,null,"Input Box will display on screen, and you need to select One data item each item"]
["Grapes_Bar_Chart"]
["Papaya_Pie_Chart",null,null,null,"Last time (5th time) Input box asks to type the string which is used as sheet name"]
["Pie_Chart_Orange"]
[null,null,null,null,"Chart In Separate Sheet"]
[]
[null,null,null,null,"Allows the user to create a chart in sepeate sheet"]
[]
[null,null,null,null,"Two Data Item chart"]
[]
[null,null,null,null,"Through this we can chart two different types of charts, for two different data items"]
[]
[null,null,null,null,"Dual Axis chart"]
[]
[null,null,null,null,"It is helpful to chart two different scales with two different axes"]
[null,null,null,null,"Ex: Sales Qty on Primry axis, sales price on Secondary Axis"]
[]
[null,null,null,null,"Line and Bar Combination Chart"]
[]
[null,null,null,null,"Through this chart we can depict two different scales on single axis"]
[null,null,null,null,"Hence considering PRIMARY AXIS as LOG axis"]
[null,null,null,null,"First Selection considers as Bar Chart"]
[null,null,null,null,"Second selection considers as Line Chart"]
[null,null,null,null,"Line & Bar combo Chart is very useful in case we need to comare data items having with two different measurements. Like one in quantity and second one in price. I used Log axis"]
[]
[null,null,null,null,"Comparision Chart"]
[]
[null,null,null,null,"This chart enables to compare two data items"]
[]
[null,null,null,null,"ThermoMeter Chart"]
[]
[null,null,null,null,"Compares proportion of second series into first"]
[null,null,null,null,"First series overlaps second series"]

{"sheet":"Sales","index":2,"n_rows":12,"n_cols":6,"rows_kept":12,"cut":false,"hidden":false,"merged":[]}
["Item","North","South","East","West","NorthEast"]
["Target",350,400,300,347,368]
["Apple",164,111,347,247,184]
["Banana",157,248,178,267,111]
["Orange",155,268,168,222,187]
["Grapes",254,222,268,157,149]
["Papaya",248,235,267,267,135]
["PineApple",267,247,222,297,254]
["Lemon",247,268,138,187,268]
["Mosambi",269,268,187,187,287]
[]
["Price",3,5,8,4,6]

{"sheet":"Price","index":3,"n_rows":9,"n_cols":6,"rows_kept":9,"cut":false,"hidden":false,"merged":[]}
["Item","North","South","East","West","NorthEast"]
["Apple",3,5,8,4,18]
["Banana",16,8,9,8,7]
["Orange",3,5,12,4,6]
["Grapes",4,8,2,14,3]
["Papaya",3,5,7,4,6]
["PineApple",5,8,9,8,7]
["Lemon",3,2,11,4,4]
["Mosambi",5,11,9,8,7]

{"sheet":"Finance","index":4,"n_rows":7,"n_cols":6,"rows_kept":7,"cut":false,"hidden":false,"merged":[[1,0,1,5]]}
["Particulars",2013,2014,2015,2016,2017]
["Total Assets of Balance Sheet -  Financials"]
["Fixed Assets",8277,3676.47,6253.88,9051.0499999999993,1821.03]
["Fixed Assets in Total Assets",0.71424996418826447,0.2661239185573816,0.40948445481015966,0.50084441980169958,0.12204452373596192]
["Current Assets",{"$f":"B7-B3","v":3311.3799999999992},{"$f":"C7-C3","v":10138.41},9018.6899999999987,9020.5300000000025,13100]
["Current Assets in Total Assets",0.28575003581173553,0.7338760814426184,0.59051554518984029,0.49915558019830042,0.87795547626403803]
["Total Assets",11588.38,13814.88,15272.57,18071.580000000002,14921.03]

{"sheet":"Marks","index":5,"n_rows":10,"n_cols":6,"rows_kept":10,"cut":false,"hidden":false,"merged":[]}
["Student","Exam1","Exam2","Exam3","Exam4","Exam5"]
["Maximum Marks",100,100,100,100,100]
["Apple",37,67,95,42,39]
["Banana",27,68,47,29,27]
["Orange",44,36,47,26,57]
["Grapes",15,47,85,39,25]
["Papaya",48,28,26,98,48]
["PineApple",36,36,24,22,36]
["Lemon",85,98,36,18,66]
["Mosambi",24,43,87,78,66]

{"sheet":"Comparision_LineCharts","index":6,"n_rows":4,"n_cols":6,"rows_kept":4,"cut":false,"hidden":false,"merged":[]}
[]
[null,{"$f":"Sales!A1","v":"Item"},{"$f":"Sales!B1","v":"North"},{"$f":"Sales!C1","v":"South"},{"$f":"Sales!D1","v":"East"},{"$f":"Sales!E1","v":"West"}]
[null,{"$f":"Sales!A6","v":"Grapes"},{"$f":"Sales!B6","v":254},{"$f":"Sales!C6","v":222},{"$f":"Sales!D6","v":268},{"$f":"Sales!E6","v":157}]
[null,{"$f":"Sales!A9","v":"Lemon"},{"$f":"Sales!B9","v":247},{"$f":"Sales!C9","v":268},{"$f":"Sales!D9","v":138},{"$f":"Sales!E9","v":187}]

{"sheet":"Comparision_Chart","index":7,"n_rows":4,"n_cols":6,"rows_kept":4,"cut":false,"hidden":false,"merged":[]}
[]
[null,{"$f":"Sales!A1","v":"Item"},{"$f":"Sales!B1","v":"North"},{"$f":"Sales!C1","v":"South"},{"$f":"Sales!D1","v":"East"},{"$f":"Sales!E1","v":"West"}]
[null,{"$f":"Sales!A6","v":"Grapes"},{"$f":"Sales!B6","v":254},{"$f":"Sales!C6","v":222},{"$f":"Sales!D6","v":268},{"$f":"Sales!E6","v":157}]
[null,{"$f":"Sales!A9","v":"Lemon"},{"$f":"Sales!B9","v":247},{"$f":"Sales!C9","v":268},{"$f":"Sales!D9","v":138},{"$f":"Sales!E9","v":187}]

{"sheet":"ComparisionChart","index":8,"n_rows":4,"n_cols":7,"rows_kept":4,"cut":false,"hidden":false,"merged":[]}
[]
[null,{"$f":"Sales!A1","v":"Item"},{"$f":"Sales!B1","v":"North"},{"$f":"Sales!C1","v":"South"},{"$f":"Sales!D1","v":"East"},{"$f":"Sales!E1","v":"West"},{"$f":"Sales!F1","v":"NorthEast"}]
[null,{"$f":"Sales!A5","v":"Orange"},{"$f":"Sales!B5","v":155},{"$f":"Sales!C5","v":268},{"$f":"Sales!D5","v":168},{"$f":"Sales!E5","v":222},{"$f":"Sales!F5","v":187}]
[null,{"$f":"Sales!A10","v":"Mosambi"},{"$f":"Sales!B10","v":269},{"$f":"Sales!C10","v":268},{"$f":"Sales!D10","v":187},{"$f":"Sales!E10","v":187},{"$f":"Sales!F10","v":287}]

{"sheet":"Sheet14","index":10,"n_rows":3,"n_cols":7,"rows_kept":3,"cut":false,"hidden":false,"merged":[]}
[]
[null,{"$f":"Sales!A1","v":"Item"},{"$f":"Sales!B1","v":"North"},{"$f":"Sales!C1","v":"South"},{"$f":"Sales!D1","v":"East"},{"$f":"Sales!E1","v":"West"},{"$f":"Sales!F1","v":"NorthEast"}]
[null,{"$f":"Sales!A7","v":"Papaya"},{"$f":"Sales!B7","v":248},{"$f":"Sales!C7","v":235},{"$f":"Sales!D7","v":267},{"$f":"Sales!E7","v":267},{"$f":"Sales!F7","v":135}]

{"sheet":"Sheet13","index":12,"n_rows":3,"n_cols":7,"rows_kept":3,"cut":false,"hidden":false,"merged":[]}
[]
[null,{"$f":"Price!A1","v":"Item"},{"$f":"Price!B1","v":"North"},{"$f":"Price!C1","v":"South"},{"$f":"Price!D1","v":"East"},{"$f":"Price!E1","v":"West"},{"$f":"Price!F1","v":"NorthEast"}]
[null,{"$f":"Price!A3","v":"Banana"},{"$f":"Price!B3","v":16},{"$f":"Price!C3","v":8},{"$f":"Price!D3","v":9},{"$f":"Price!E3","v":8},{"$f":"Price!F3","v":7}]

{"sheet":"Sheet12","index":14,"n_rows":3,"n_cols":5,"rows_kept":3,"cut":false,"hidden":false,"merged":[]}
[]
[null,{"$f":"Price!A1","v":"Item"},{"$f":"Price!B1","v":"North"},{"$f":"Price!C1","v":"South"},{"$f":"Price!D1","v":"East"}]
[null,{"$f":"Price!A5","v":"Grapes"},{"$f":"Price!B5","v":4},{"$f":"Price!C5","v":8},{"$f":"Price!D5","v":2}]

{"sheet":"Sheet7","index":16,"n_rows":3,"n_cols":7,"rows_kept":3,"cut":false,"hidden":false,"merged":[]}
[]
[null,{"$f":"Sales!A1","v":"Item"},{"$f":"Sales!B1","v":"North"},{"$f":"Sales!C1","v":"South"},{"$f":"Sales!D1","v":"East"},{"$f":"Sales!E1","v":"West"},{"$f":"Sales!F1","v":"NorthEast"}]
[null,{"$f":"Sales!A4","v":"Banana"},{"$f":"Sales!B4","v":157},{"$f":"Sales!C4","v":248},{"$f":"Sales!D4","v":178},{"$f":"Sales!E4","v":267},{"$f":"Sales!F4","v":111}]

{"sheet":"Dashboard_with_Four_Charts","index":17,"n_rows":25,"n_cols":15,"rows_kept":25,"cut":false,"hidden":false,"merged":[]}
[]
[null,{"$f":"Sales!A1","v":"Item"},{"$f":"Sales!B1","v":"North"},{"$f":"Sales!C1","v":"South"},{"$f":"Sales!D1","v":"East"},null,null,null,null,{"$f":"Price!A1","v":"Item"},{"$f":"Price!B1","v":"North"},{"$f":"Price!C1","v":"South"},{"$f":"Price!D1","v":"East"},{"$f":"Price!E1","v":"West"}]
[null,{"$f":"Sales!A6","v":"Grapes"},{"$f":"Sales!B6","v":254},{"$f":"Sales!C6","v":222},{"$f":"Sales!D6","v":268},null,null,null,null,{"$f":"Price!A2","v":"Apple"},{"$f":"Price!B2","v":3},{"$f":"Price!C2","v":5},{"$f":"Price!D2","v":8},{"$f":"Price!E2","v":4}]
[]
[]
[]
[]
[]
[]
[]
[]
[]
[]
[]
[]
[]
[]
[]
[]
[]
[]
[]
[]
[null,{"$f":"Finance!A1","v":"Particulars"},{"$f":"Finance!B1","v":2013},{"$f":"Finance!C1","v":2014},{"$f":"Finance!D1","v":2015},{"$f":"Finance!E1","v":2016},{"$f":"Finance!F1","v":2017},null,null,{"$f":"Marks!A1","v":"Student"},{"$f":"Marks!B1","v":"Exam1"},{"$f":"Marks!C1","v":"Exam2"},{"$f":"Marks!D1","v":"Exam3"},{"$f":"Marks!E1","v":"Exam4"},{"$f":"Marks!F1","v":"Exam5"}]
[null,{"$f":"Finance!A3","v":"Fixed Assets"},{"$f":"Finance!B3","v":8277},{"$f":"Finance!C3","v":3676.47},{"$f":"Finance!D3","v":6253.88},{"$f":"Finance!E3","v":9051.0499999999993},{"$f":"Finance!F3","v":1821.03},null,null,{"$f":"Marks!A5","v":"Orange"},{"$f":"Marks!B5","v":44},{"$f":"Marks!C5","v":36},{"$f":"Marks!D5","v":47},{"$f":"Marks!E5","v":26},{"$f":"Marks!F5","v":57}]

{"sheet":"DashBoard_with_Three_Dataitems","index":18,"n_rows":25,"n_cols":15,"rows_kept":25,"cut":false,"hidden":false,"merged":[]}
[]
[null,{"$f":"Sales!A1","v":"Item"},{"$f":"Sales!B1","v":"North"},{"$f":"Sales!C1","v":"South"},{"$f":"Sales!D1","v":"East"},{"$f":"Sales!E1","v":"West"},{"$f":"Sales!F1","v":"NorthEast"},null,null,{"$f":"Price!A1","v":"Item"},{"$f":"Price!B1","v":"North"},{"$f":"Price!C1","v":"South"},{"$f":"Price!D1","v":"East"},{"$f":"Price!E1","v":"West"},{"$f":"Price!F1","v":"NorthEast"}]
[null,{"$f":"Sales!A4","v":"Banana"},{"$f":"Sales!B4","v":157},{"$f":"Sales!C4","v":248},{"$f":"Sales!D4","v":178},{"$f":"Sales!E4","v":267},{"$f":"Sales!F4","v":111},null,null,{"$f":"Price!A2","v":"Apple"},{"$f":"Price!B2","v":3},{"$f":"Price!C2","v":5},{"$f":"Price!D2","v":8},{"$f":"Price!E2","v":4},{"$f":"Price!F2","v":18}]
[]
[]
[]
[]
[]
[]
[]
[]
[]
[]
[]
[]
[]
[]
[]
[]
[]
[]
[]
[]
[null,{"$f":"Finance!A1","v":"Particulars"},{"$f":"Finance!B1","v":2013},{"$f":"Finance!C1","v":2014},{"$f":"Finance!D1","v":2015},{"$f":"Finance!E1","v":2016}]
[null,{"$f":"Finance!A3","v":"Fixed Assets"},{"$f":"Finance!B3","v":8277},{"$f":"Finance!C3","v":3676.47},{"$f":"Finance!D3","v":6253.88},{"$f":"Finance!E3","v":9051.0499999999993}]

{"sheet":"ThermometerChart_with_Marks","index":19,"n_rows":4,"n_cols":7,"rows_kept":4,"cut":false,"hidden":false,"merged":[]}
[]
[null,{"$f":"Marks!A1","v":"Student"},{"$f":"Marks!B1","v":"Exam1"},{"$f":"Marks!C1","v":"Exam2"},{"$f":"Marks!D1","v":"Exam3"},{"$f":"Marks!E1","v":"Exam4"},{"$f":"Marks!F1","v":"Exam5"}]
[null,{"$f":"Marks!A2","v":"Maximum Marks"},{"$f":"Marks!B2","v":100},{"$f":"Marks!C2","v":100},{"$f":"Marks!D2","v":100},{"$f":"Marks!E2","v":100},{"$f":"Marks!F2","v":100}]
[null,{"$f":"Marks!A5","v":"Orange"},{"$f":"Marks!B5","v":44},{"$f":"Marks!C5","v":36},{"$f":"Marks!D5","v":47},{"$f":"Marks!E5","v":26},{"$f":"Marks!F5","v":57}]

{"sheet":"ThermometerChart_StdandActual","index":20,"n_rows":4,"n_cols":7,"rows_kept":4,"cut":false,"hidden":false,"merged":[]}
[]
[null,{"$f":"Sales!A1","v":"Item"},{"$f":"Sales!B1","v":"North"},{"$f":"Sales!C1","v":"South"},{"$f":"Sales!D1","v":"East"},{"$f":"Sales!E1","v":"West"},{"$f":"Sales!F1","v":"NorthEast"}]
[null,{"$f":"Sales!A2","v":"Target"},{"$f":"Sales!B2","v":350},{"$f":"Sales!C2","v":400},{"$f":"Sales!D2","v":300},{"$f":"Sales!E2","v":347},{"$f":"Sales!F2","v":368}]
[null,{"$f":"Sales!A5","v":"Orange"},{"$f":"Sales!B5","v":155},{"$f":"Sales!C5","v":268},{"$f":"Sales!D5","v":168},{"$f":"Sales!E5","v":222},{"$f":"Sales!F5","v":187}]

{"sheet":"Dual_Axis_Chart_For_Apple","index":21,"n_rows":4,"n_cols":7,"rows_kept":4,"cut":false,"hidden":false,"merged":[]}
[]
[null,{"$f":"Sales!A1","v":"Item"},{"$f":"Sales!B1","v":"North"},{"$f":"Sales!C1","v":"South"},{"$f":"Sales!D1","v":"East"},{"$f":"Sales!E1","v":"West"},{"$f":"Sales!F1","v":"NorthEast"}]
[null,{"$f":"Sales!A3","v":"Apple"},{"$f":"Sales!B3","v":164},{"$f":"Sales!C3","v":111},{"$f":"Sales!D3","v":347},{"$f":"Sales!E3","v":247},{"$f":"Sales!F3","v":184}]
[null,{"$f":"Price!A2","v":"Apple"},{"$f":"Price!B2","v":3},{"$f":"Price!C2","v":5},{"$f":"Price!D2","v":8},{"$f":"Price!E2","v":4},{"$f":"Price!F2","v":18}]

{"sheet":"ComboChart_PineAndBanana","index":22,"n_rows":4,"n_cols":7,"rows_kept":4,"cut":false,"hidden":false,"merged":[]}
[]
[null,{"$f":"Sales!A1","v":"Item"},{"$f":"Sales!B1","v":"North"},{"$f":"Sales!C1","v":"South"},{"$f":"Sales!D1","v":"East"},{"$f":"Sales!E1","v":"West"},{"$f":"Sales!F1","v":"NorthEast"}]
[null,{"$f":"Sales!A8","v":"PineApple"},{"$f":"Sales!B8","v":267},{"$f":"Sales!C8","v":247},{"$f":"Sales!D8","v":222},{"$f":"Sales!E8","v":297},{"$f":"Sales!F8","v":254}]
[null,{"$f":"Sales!A4","v":"Banana"},{"$f":"Sales!B4","v":157},{"$f":"Sales!C4","v":248},{"$f":"Sales!D4","v":178},{"$f":"Sales!E4","v":267},{"$f":"Sales!F4","v":111}]

{"sheet":"ComboChart_Banana","index":23,"n_rows":4,"n_cols":7,"rows_kept":4,"cut":false,"hidden":false,"merged":[]}
[]
[null,{"$f":"Sales!A1","v":"Item"},{"$f":"Sales!B1","v":"North"},{"$f":"Sales!C1","v":"South"},{"$f":"Sales!D1","v":"East"},{"$f":"Sales!E1","v":"West"},{"$f":"Sales!F1","v":"NorthEast"}]
[null,{"$f":"Sales!A4","v":"Banana"},{"$f":"Sales!B4","v":157},{"$f":"Sales!C4","v":248},{"$f":"Sales!D4","v":178},{"$f":"Sales!E4","v":267},{"$f":"Sales!F4","v":111}]
[null,{"$f":"Sales!A12","v":"Price"},{"$f":"Sales!B12","v":3},{"$f":"Sales!C12","v":5},{"$f":"Sales!D12","v":8},{"$f":"Sales!E12","v":4},{"$f":"Sales!F12","v":6}]

{"sheet":"ColumnChart_Sales_Of_Banana","index":24,"n_rows":3,"n_cols":6,"rows_kept":3,"cut":false,"hidden":false,"merged":[]}
[]
[null,{"$f":"Sales!A1","v":"Item"},{"$f":"Sales!B1","v":"North"},{"$f":"Sales!C1","v":"South"},{"$f":"Sales!D1","v":"East"},{"$f":"Sales!E1","v":"West"}]
[null,{"$f":"Sales!A4","v":"Banana"},{"$f":"Sales!B4","v":157},{"$f":"Sales!C4","v":248},{"$f":"Sales!D4","v":178},{"$f":"Sales!E4","v":267}]

{"sheet":"Column_Chart_For_Assets","index":25,"n_rows":3,"n_cols":6,"rows_kept":3,"cut":false,"hidden":false,"merged":[]}
[]
[null,{"$f":"Finance!A1","v":"Particulars"},{"$f":"Finance!B1","v":2013},{"$f":"Finance!C1","v":2014},{"$f":"Finance!D1","v":2015},{"$f":"Finance!E1","v":2016}]
[null,{"$f":"Finance!A7","v":"Total Assets"},{"$f":"Finance!B7","v":11588.38},{"$f":"Finance!C7","v":13814.88},{"$f":"Finance!D7","v":15272.57},{"$f":"Finance!E7","v":18071.580000000002}]

{"sheet":"Line_Chart_With_Papaya_Price","index":26,"n_rows":3,"n_cols":6,"rows_kept":3,"cut":false,"hidden":false,"merged":[]}
[]
[null,{"$f":"Price!A1","v":"Item"},{"$f":"Price!B1","v":"North"},{"$f":"Price!C1","v":"South"},{"$f":"Price!D1","v":"East"},{"$f":"Price!E1","v":"West"}]
[null,{"$f":"Price!A6","v":"Papaya"},{"$f":"Price!B6","v":3},{"$f":"Price!C6","v":5},{"$f":"Price!D6","v":7},{"$f":"Price!E6","v":4}]

{"sheet":"Bar_Chart_with_LemonMarks","index":27,"n_rows":3,"n_cols":5,"rows_kept":3,"cut":false,"hidden":false,"merged":[]}
[]
[null,{"$f":"Marks!A1","v":"Student"},{"$f":"Marks!B1","v":"Exam1"},{"$f":"Marks!C1","v":"Exam2"},{"$f":"Marks!D1","v":"Exam3"}]
[null,{"$f":"Marks!A9","v":"Lemon"},{"$f":"Marks!B9","v":85},{"$f":"Marks!C9","v":98},{"$f":"Marks!D9","v":36}]

{"sheet":"Grapes_Bar_Chart","index":28,"n_rows":3,"n_cols":6,"rows_kept":3,"cut":false,"hidden":false,"merged":[]}
[]
[null,{"$f":"Price!A1","v":"Item"},{"$f":"Price!B1","v":"North"},{"$f":"Price!C1","v":"South"},{"$f":"Price!D1","v":"East"},{"$f":"Price!E1","v":"West"}]
[null,{"$f":"Price!A5","v":"Grapes"},{"$f":"Price!B5","v":4},{"$f":"Price!C5","v":8},{"$f":"Price!D5","v":2},{"$f":"Price!E5","v":14}]

{"sheet":"Papaya_Pie_Chart","index":29,"n_rows":3,"n_cols":6,"rows_kept":3,"cut":false,"hidden":false,"merged":[]}
[]
[null,{"$f":"Marks!A1","v":"Student"},{"$f":"Marks!B1","v":"Exam1"},{"$f":"Marks!C1","v":"Exam2"},{"$f":"Marks!D1","v":"Exam3"},{"$f":"Marks!E1","v":"Exam4"}]
[null,{"$f":"Marks!A7","v":"Papaya"},{"$f":"Marks!B7","v":48},{"$f":"Marks!C7","v":28},{"$f":"Marks!D7","v":26},{"$f":"Marks!E7","v":98}]

{"sheet":"Pie_Chart_Orange","index":30,"n_rows":3,"n_cols":6,"rows_kept":3,"cut":false,"hidden":false,"merged":[]}
[]
[null,{"$f":"Sales!A1","v":"Item"},{"$f":"Sales!B1","v":"North"},{"$f":"Sales!C1","v":"South"},{"$f":"Sales!D1","v":"East"},{"$f":"Sales!E1","v":"West"}]
[null,{"$f":"Sales!A5","v":"Orange"},{"$f":"Sales!B5","v":155},{"$f":"Sales!C5","v":268},{"$f":"Sales!D5","v":168},{"$f":"Sales!E5","v":222}]